Package: CluMSID Version: 1.25.0 Command: rm -rf CluMSID.buildbin-libdir && mkdir CluMSID.buildbin-libdir && F:\biocbuild\bbs-3.22-bioc\R\bin\R.exe CMD INSTALL --build --library=CluMSID.buildbin-libdir CluMSID_1.25.0.tar.gz StartedAt: 2025-08-15 09:58:41 -0400 (Fri, 15 Aug 2025) EndedAt: 2025-08-15 09:59:41 -0400 (Fri, 15 Aug 2025) EllapsedTime: 60.4 seconds RetCode: 0 Status: OK PackageFile: CluMSID_1.25.0.zip PackageFileSize: 3.526 MiB