Package: CluMSID Version: 1.25.0 Command: /Library/Frameworks/R.framework/Resources/bin/R CMD build --keep-empty-dirs --no-resave-data CluMSID StartedAt: 2025-07-11 16:26:37 -0400 (Fri, 11 Jul 2025) EndedAt: 2025-07-11 16:27:58 -0400 (Fri, 11 Jul 2025) EllapsedTime: 80.1 seconds RetCode: 1 Status: ERROR PackageFile: None PackageFileSize: NA