Package: CluMSID Version: 1.25.0 Command: /Library/Frameworks/R.framework/Resources/bin/R CMD build --keep-empty-dirs --no-resave-data CluMSID StartedAt: 2025-07-14 15:54:11 -0400 (Mon, 14 Jul 2025) EndedAt: 2025-07-14 15:54:41 -0400 (Mon, 14 Jul 2025) EllapsedTime: 29.3 seconds RetCode: 1 Status: ERROR PackageFile: None PackageFileSize: NA