Package: CleanUpRNAseq Version: 1.3.1 Command: /home/biocbuild/R/R/bin/R CMD check --install=check:CleanUpRNAseq.install-out.txt --library=/home/biocbuild/R/R/site-library --no-vignettes --timings CleanUpRNAseq_1.3.1.tar.gz StartedAt: 2025-07-22 05:36:48 -0000 (Tue, 22 Jul 2025) EndedAt: 2025-07-22 05:46:01 -0000 (Tue, 22 Jul 2025) EllapsedTime: 552.5 seconds RetCode: 0 Status: OK CheckDir: CleanUpRNAseq.Rcheck Warnings: 0