Package: CleanUpRNAseq Version: 1.3.1 Command: /Library/Frameworks/R.framework/Resources/bin/R CMD INSTALL CleanUpRNAseq StartedAt: 2025-07-01 16:00:59 -0400 (Tue, 01 Jul 2025) EndedAt: 2025-07-01 16:01:55 -0400 (Tue, 01 Jul 2025) EllapsedTime: 55.9 seconds RetCode: 0 Status: OK