Package: CleanUpRNAseq Version: 1.3.1 Command: /Library/Frameworks/R.framework/Resources/bin/R CMD build --keep-empty-dirs --no-resave-data CleanUpRNAseq StartedAt: 2025-07-01 16:30:50 -0400 (Tue, 01 Jul 2025) EndedAt: 2025-07-01 16:32:19 -0400 (Tue, 01 Jul 2025) EllapsedTime: 89.0 seconds RetCode: 0 Status: OK PackageFile: CleanUpRNAseq_1.3.1.tar.gz PackageFileSize: 2.473 MiB