Package: CiteFuse Version: 1.21.0 Command: chmod a+r CiteFuse -R && F:\biocbuild\bbs-3.22-bioc\R\bin\R.exe CMD build --keep-empty-dirs --no-resave-data CiteFuse StartedAt: 2025-08-14 19:08:23 -0400 (Thu, 14 Aug 2025) EndedAt: 2025-08-14 19:12:03 -0400 (Thu, 14 Aug 2025) EllapsedTime: 220.3 seconds RetCode: 0 Status: OK PackageFile: CiteFuse_1.21.0.tar.gz PackageFileSize: 2.383 MiB