Package: Chromatograms Version: 0.99.6 Command: /home/biocbuild/R/R/bin/R CMD INSTALL Chromatograms StartedAt: 2025-10-06 20:26:25 -0000 (Mon, 06 Oct 2025) EndedAt: 2025-10-06 20:26:42 -0000 (Mon, 06 Oct 2025) EllapsedTime: 17.6 seconds RetCode: 0 Status: OK