Package: Chromatograms Version: 0.99.6 Command: /home/biocbuild/R/R/bin/R CMD build --keep-empty-dirs --no-resave-data Chromatograms StartedAt: 2025-10-06 22:37:24 -0000 (Mon, 06 Oct 2025) EndedAt: 2025-10-06 22:38:12 -0000 (Mon, 06 Oct 2025) EllapsedTime: 48.0 seconds RetCode: 0 Status: OK PackageFile: Chromatograms_0.99.6.tar.gz PackageFileSize: 881.7 KiB