Package: Chromatograms Version: 0.99.6 Command: /Library/Frameworks/R.framework/Resources/bin/R CMD build --keep-empty-dirs --no-resave-data Chromatograms StartedAt: 2025-10-05 15:54:46 -0400 (Sun, 05 Oct 2025) EndedAt: 2025-10-05 15:55:03 -0400 (Sun, 05 Oct 2025) EllapsedTime: 17.2 seconds RetCode: 0 Status: OK PackageFile: Chromatograms_0.99.6.tar.gz PackageFileSize: 854.8 KiB