Package: ChromHeatMap Version: 1.63.0 Command: F:\biocbuild\bbs-3.22-bioc\R\bin\R.exe CMD check --no-multiarch --install=check:ChromHeatMap.install-out.txt --library=F:\biocbuild\bbs-3.22-bioc\R\library --no-vignettes --timings ChromHeatMap_1.63.0.tar.gz StartedAt: 2025-07-16 00:24:21 -0400 (Wed, 16 Jul 2025) EndedAt: 2025-07-16 00:29:04 -0400 (Wed, 16 Jul 2025) EllapsedTime: 282.7 seconds RetCode: 0 Status: OK CheckDir: ChromHeatMap.Rcheck Warnings: 0