Package: Chicago Version: 1.37.1 Command: /home/biocbuild/R/R/bin/R CMD check --install=check:Chicago.install-out.txt --library=/home/biocbuild/R/R/site-library --no-vignettes --timings Chicago_1.37.1.tar.gz StartedAt: 2025-07-18 05:15:04 -0000 (Fri, 18 Jul 2025) EndedAt: 2025-07-18 05:16:56 -0000 (Fri, 18 Jul 2025) EllapsedTime: 112.2 seconds RetCode: 0 Status: OK CheckDir: Chicago.Rcheck Warnings: 0