Package: Chicago Version: 1.37.1 Command: /home/biocbuild/R/R/bin/R CMD build --keep-empty-dirs --no-resave-data Chicago StartedAt: 2025-07-14 22:32:51 -0000 (Mon, 14 Jul 2025) EndedAt: 2025-07-14 22:35:15 -0000 (Mon, 14 Jul 2025) EllapsedTime: 144.1 seconds RetCode: 0 Status: OK PackageFile: Chicago_1.37.1.tar.gz PackageFileSize: 946.6 KiB