Package: Chicago Version: 1.37.1 Command: F:\biocbuild\bbs-3.22-bioc\R\bin\R.exe CMD INSTALL Chicago StartedAt: 2025-07-21 15:51:41 -0400 (Mon, 21 Jul 2025) EndedAt: 2025-07-21 15:52:15 -0400 (Mon, 21 Jul 2025) EllapsedTime: 34.3 seconds RetCode: 0 Status: OK