Package: Chicago Version: 1.37.1 Command: F:\biocbuild\bbs-3.22-bioc\R\bin\R.exe CMD check --no-multiarch --install=check:Chicago.install-out.txt --library=F:\biocbuild\bbs-3.22-bioc\R\library --no-vignettes --timings Chicago_1.37.1.tar.gz StartedAt: 2025-07-23 00:24:35 -0400 (Wed, 23 Jul 2025) EndedAt: 2025-07-23 00:26:50 -0400 (Wed, 23 Jul 2025) EllapsedTime: 135.5 seconds RetCode: 0 Status: OK CheckDir: Chicago.Rcheck Warnings: 0