Package: Chicago Version: 1.37.1 Command: chmod a+r Chicago -R && F:\biocbuild\bbs-3.22-bioc\R\bin\R.exe CMD build --keep-empty-dirs --no-resave-data Chicago StartedAt: 2025-07-21 18:02:03 -0400 (Mon, 21 Jul 2025) EndedAt: 2025-07-21 18:04:13 -0400 (Mon, 21 Jul 2025) EllapsedTime: 130.3 seconds RetCode: 0 Status: OK PackageFile: Chicago_1.37.1.tar.gz PackageFileSize: 785.6 KiB