Package: Chicago Version: 1.37.1 Command: /home/biocbuild/bbs-3.22-bioc/R/bin/R CMD check --install=check:Chicago.install-out.txt --library=/home/biocbuild/bbs-3.22-bioc/R/site-library --timings Chicago_1.37.1.tar.gz StartedAt: 2025-07-01 20:49:48 -0400 (Tue, 01 Jul 2025) EndedAt: 2025-07-01 20:52:46 -0400 (Tue, 01 Jul 2025) EllapsedTime: 178.2 seconds RetCode: 0 Status: OK CheckDir: Chicago.Rcheck Warnings: 0