Package: Chicago Version: 1.37.1 Command: /home/biocbuild/bbs-3.22-bioc/R/bin/R CMD build --keep-empty-dirs --no-resave-data --md5 Chicago StartedAt: 2025-07-01 16:33:39 -0400 (Tue, 01 Jul 2025) EndedAt: 2025-07-01 16:35:09 -0400 (Tue, 01 Jul 2025) EllapsedTime: 89.1 seconds RetCode: 0 Status: OK PackageFile: Chicago_1.37.1.tar.gz PackageFileSize: 1.25 MiB