Package: ChemmineR Version: 3.61.2 Command: /home/biocbuild/R/R/bin/R CMD build --keep-empty-dirs --no-resave-data ChemmineR StartedAt: 2025-10-06 22:33:50 -0000 (Mon, 06 Oct 2025) EndedAt: 2025-10-06 22:35:09 -0000 (Mon, 06 Oct 2025) EllapsedTime: 79.0 seconds RetCode: 0 Status: OK PackageFile: ChemmineR_3.61.2.tar.gz PackageFileSize: 1.642 MiB