Package: ChemmineR Version: 3.61.1 Command: F:\biocbuild\bbs-3.22-bioc\R\bin\R.exe CMD INSTALL ChemmineR StartedAt: 2025-07-14 15:35:11 -0400 (Mon, 14 Jul 2025) EndedAt: 2025-07-14 15:37:26 -0400 (Mon, 14 Jul 2025) EllapsedTime: 135.2 seconds RetCode: 0 Status: OK