Package: ChemmineR Version: 3.61.1 Command: chmod a+r ChemmineR -R && F:\biocbuild\bbs-3.22-bioc\R\bin\R.exe CMD build --keep-empty-dirs --no-resave-data ChemmineR StartedAt: 2025-07-15 17:57:39 -0400 (Tue, 15 Jul 2025) EndedAt: 2025-07-15 17:59:53 -0400 (Tue, 15 Jul 2025) EllapsedTime: 134.1 seconds RetCode: 0 Status: OK PackageFile: ChemmineR_3.61.1.tar.gz PackageFileSize: 1.579 MiB