Package: ChemmineR Version: 3.61.1 Command: rm -rf ChemmineR.buildbin-libdir && mkdir ChemmineR.buildbin-libdir && F:\biocbuild\bbs-3.22-bioc\R\bin\R.exe CMD INSTALL --build --library=ChemmineR.buildbin-libdir ChemmineR_3.61.1.tar.gz StartedAt: 2025-07-15 08:36:44 -0400 (Tue, 15 Jul 2025) EndedAt: 2025-07-15 08:38:40 -0400 (Tue, 15 Jul 2025) EllapsedTime: 115.8 seconds RetCode: 0 Status: OK PackageFile: ChemmineR_3.61.1.zip PackageFileSize: 2.187 MiB