Package: ChemmineOB Version: 1.47.1 Command: /home/biocbuild/R/R/bin/R CMD INSTALL ChemmineOB StartedAt: 2025-06-30 20:27:12 -0000 (Mon, 30 Jun 2025) EndedAt: 2025-06-30 20:27:26 -0000 (Mon, 30 Jun 2025) EllapsedTime: 14.3 seconds RetCode: 1 Status: ERROR