Package: ChemmineOB Version: 1.47.4 Command: F:\biocbuild\bbs-3.22-bioc\R\bin\R.exe CMD INSTALL ChemmineOB StartedAt: 2025-07-24 15:43:01 -0400 (Thu, 24 Jul 2025) EndedAt: 2025-07-24 15:44:09 -0400 (Thu, 24 Jul 2025) EllapsedTime: 68.7 seconds RetCode: 1 Status: ERROR