Package: ChemmineOB Version: 1.47.0 Command: rm -rf ChemmineOB.buildbin-libdir && mkdir ChemmineOB.buildbin-libdir && F:\biocbuild\bbs-3.22-bioc\R\bin\R.exe CMD INSTALL --build --library=ChemmineOB.buildbin-libdir ChemmineOB_1.47.0.tar.gz StartedAt: 2025-04-18 09:19:43 -0400 (Fri, 18 Apr 2025) EndedAt: 2025-04-18 09:30:55 -0400 (Fri, 18 Apr 2025) EllapsedTime: 672.2 seconds RetCode: 0 Status: OK PackageFile: ChemmineOB_1.47.0.zip PackageFileSize: 7.239 MiB