Package: ChemmineOB Version: 1.47.1 Command: /Library/Frameworks/R.framework/Resources/bin/R CMD INSTALL ChemmineOB StartedAt: 2025-06-29 15:07:26 -0400 (Sun, 29 Jun 2025) EndedAt: 2025-06-29 15:07:30 -0400 (Sun, 29 Jun 2025) EllapsedTime: 3.9 seconds RetCode: 1 Status: ERROR