Package: ChemmineOB Version: 1.47.1 Command: /Library/Frameworks/R.framework/Resources/bin/R CMD build --keep-empty-dirs --no-resave-data ChemmineOB StartedAt: 2025-06-29 15:51:18 -0400 (Sun, 29 Jun 2025) EndedAt: 2025-06-29 15:51:22 -0400 (Sun, 29 Jun 2025) EllapsedTime: 4.1 seconds RetCode: 1 Status: ERROR PackageFile: None PackageFileSize: NA