Package: ChIPsim Version: 1.63.0 Command: /home/biocbuild/R/R/bin/R CMD INSTALL ChIPsim StartedAt: 2025-06-26 21:10:38 -0000 (Thu, 26 Jun 2025) EndedAt: 2025-06-26 21:11:17 -0000 (Thu, 26 Jun 2025) EllapsedTime: 39.1 seconds RetCode: 0 Status: OK