Package: ChIPsim Version: 1.63.0 Command: /home/biocbuild/R/R/bin/R CMD build --keep-empty-dirs --no-resave-data ChIPsim StartedAt: 2025-06-26 22:32:40 -0000 (Thu, 26 Jun 2025) EndedAt: 2025-06-26 22:33:34 -0000 (Thu, 26 Jun 2025) EllapsedTime: 54.0 seconds RetCode: 1 Status: ERROR PackageFile: None PackageFileSize: NA