Package: ChIPsim Version: 1.63.0 Command: rm -rf ChIPsim.buildbin-libdir && mkdir ChIPsim.buildbin-libdir && F:\biocbuild\bbs-3.22-bioc\R\bin\R.exe CMD INSTALL --build --library=ChIPsim.buildbin-libdir ChIPsim_1.63.0.tar.gz StartedAt: 2025-07-05 08:33:37 -0400 (Sat, 05 Jul 2025) EndedAt: 2025-07-05 08:34:17 -0400 (Sat, 05 Jul 2025) EllapsedTime: 40.4 seconds RetCode: 0 Status: OK PackageFile: ChIPsim_1.63.0.zip PackageFileSize: 638.5 KiB