Package: ChIPsim Version: 1.63.0 Command: /Library/Frameworks/R.framework/Resources/bin/R CMD check --install=check:ChIPsim.install-out.txt --library=/Library/Frameworks/R.framework/Resources/library --no-vignettes --timings ChIPsim_1.63.0.tar.gz StartedAt: 2025-06-29 18:30:57 -0400 (Sun, 29 Jun 2025) EndedAt: 2025-06-29 18:32:16 -0400 (Sun, 29 Jun 2025) EllapsedTime: 78.8 seconds RetCode: 0 Status: OK CheckDir: ChIPsim.Rcheck Warnings: 0