Package: ChIPseeker Version: 1.45.0 Command: /home/biocbuild/R/R/bin/R CMD INSTALL ChIPseeker StartedAt: 2025-07-21 21:30:04 -0000 (Mon, 21 Jul 2025) EndedAt: 2025-07-21 21:31:05 -0000 (Mon, 21 Jul 2025) EllapsedTime: 61.2 seconds RetCode: 0 Status: OK