Package: ChIPseeker Version: 1.45.0 Command: /home/biocbuild/R/R/bin/R CMD build --keep-empty-dirs --no-resave-data ChIPseeker StartedAt: 2025-07-21 22:42:49 -0000 (Mon, 21 Jul 2025) EndedAt: 2025-07-21 22:52:13 -0000 (Mon, 21 Jul 2025) EllapsedTime: 564.0 seconds RetCode: 0 Status: OK PackageFile: ChIPseeker_1.45.0.tar.gz PackageFileSize: 6.683 MiB