Package: ChIPseeker Version: 1.45.0 Command: F:\biocbuild\bbs-3.22-bioc\R\bin\R.exe CMD INSTALL ChIPseeker StartedAt: 2025-07-21 16:38:48 -0400 (Mon, 21 Jul 2025) EndedAt: 2025-07-21 16:40:13 -0400 (Mon, 21 Jul 2025) EllapsedTime: 84.9 seconds RetCode: 0 Status: OK