Package: ChIPseeker Version: 1.45.0 Command: F:\biocbuild\bbs-3.22-bioc\R\bin\R.exe CMD check --no-multiarch --install=check:ChIPseeker.install-out.txt --library=F:\biocbuild\bbs-3.22-bioc\R\library --no-vignettes --timings ChIPseeker_1.45.0.tar.gz StartedAt: 2025-07-22 00:28:59 -0400 (Tue, 22 Jul 2025) EndedAt: 2025-07-22 00:38:05 -0400 (Tue, 22 Jul 2025) EllapsedTime: 546.4 seconds RetCode: 0 Status: OK CheckDir: ChIPseeker.Rcheck Warnings: 0