Package: ChIPseeker Version: 1.45.0 Command: chmod a+r ChIPseeker -R && F:\biocbuild\bbs-3.22-bioc\R\bin\R.exe CMD build --keep-empty-dirs --no-resave-data ChIPseeker StartedAt: 2025-07-21 18:03:38 -0400 (Mon, 21 Jul 2025) EndedAt: 2025-07-21 18:15:09 -0400 (Mon, 21 Jul 2025) EllapsedTime: 691.7 seconds RetCode: 0 Status: OK PackageFile: ChIPseeker_1.45.0.tar.gz PackageFileSize: 6.645 MiB