Package: ChIPseeker Version: 1.45.0 Command: /Library/Frameworks/R.framework/Resources/bin/R CMD INSTALL ChIPseeker StartedAt: 2025-07-01 16:00:05 -0400 (Tue, 01 Jul 2025) EndedAt: 2025-07-01 16:01:07 -0400 (Tue, 01 Jul 2025) EllapsedTime: 61.4 seconds RetCode: 0 Status: OK