Package: ChIPseeker Version: 1.45.0 Command: /Library/Frameworks/R.framework/Resources/bin/R CMD check --install=check:ChIPseeker.install-out.txt --library=/Library/Frameworks/R.framework/Resources/library --no-vignettes --timings ChIPseeker_1.45.0.tar.gz StartedAt: 2025-07-01 19:48:49 -0400 (Tue, 01 Jul 2025) EndedAt: 2025-07-01 19:57:25 -0400 (Tue, 01 Jul 2025) EllapsedTime: 516.2 seconds RetCode: 0 Status: OK CheckDir: ChIPseeker.Rcheck Warnings: 0