Package: ChIPseeker Version: 1.45.0 Command: /Library/Frameworks/R.framework/Resources/bin/R CMD build --keep-empty-dirs --no-resave-data ChIPseeker StartedAt: 2025-07-01 16:29:16 -0400 (Tue, 01 Jul 2025) EndedAt: 2025-07-01 16:39:12 -0400 (Tue, 01 Jul 2025) EllapsedTime: 596.0 seconds RetCode: 0 Status: OK PackageFile: ChIPseeker_1.45.0.tar.gz PackageFileSize: 7.413 MiB