Package: ChIPseeker Version: 1.45.0 Command: rm -rf ChIPseeker.buildbin-libdir && mkdir ChIPseeker.buildbin-libdir && /Users/biocbuild/BBS/utils/build-universal.sh ChIPseeker_1.45.0.tar.gz /Library/Frameworks/R.framework/Resources/bin/R ChIPseeker.buildbin-libdir StartedAt: 2025-07-02 00:50:06 -0400 (Wed, 02 Jul 2025) EndedAt: 2025-07-02 00:51:08 -0400 (Wed, 02 Jul 2025) EllapsedTime: 62.0 seconds RetCode: 0 Status: OK PackageFile: ChIPseeker_1.45.0.tgz PackageFileSize: 7.396 MiB