Package: ChIPseeker Version: 1.45.0 Command: /Library/Frameworks/R.framework/Resources/bin/R CMD INSTALL ChIPseeker StartedAt: 2025-07-07 15:30:00 -0400 (Mon, 07 Jul 2025) EndedAt: 2025-07-07 15:30:19 -0400 (Mon, 07 Jul 2025) EllapsedTime: 18.4 seconds RetCode: 0 Status: OK