Package: ChIPseeker Version: 1.45.0 Command: /Library/Frameworks/R.framework/Resources/bin/R CMD check --install=check:ChIPseeker.install-out.txt --library=/Library/Frameworks/R.framework/Resources/library --no-vignettes --timings ChIPseeker_1.45.0.tar.gz StartedAt: 2025-07-07 18:27:55 -0400 (Mon, 07 Jul 2025) EndedAt: 2025-07-07 18:30:53 -0400 (Mon, 07 Jul 2025) EllapsedTime: 178.1 seconds RetCode: 0 Status: OK CheckDir: ChIPseeker.Rcheck Warnings: 0