Package: ChIPpeakAnno Version: 3.43.2 Command: /home/biocbuild/R/R/bin/R CMD INSTALL ChIPpeakAnno StartedAt: 2025-10-23 21:16:14 -0000 (Thu, 23 Oct 2025) EndedAt: 2025-10-23 21:18:28 -0000 (Thu, 23 Oct 2025) EllapsedTime: 133.5 seconds RetCode: 0 Status: OK