Package: ChIPpeakAnno Version: 3.43.2 Command: /home/biocbuild/R/R/bin/R CMD build --keep-empty-dirs --no-resave-data ChIPpeakAnno StartedAt: 2025-10-20 22:40:32 -0000 (Mon, 20 Oct 2025) EndedAt: 2025-10-20 23:03:20 -0000 (Mon, 20 Oct 2025) EllapsedTime: 1368.2 seconds RetCode: 0 Status: OK PackageFile: ChIPpeakAnno_3.43.2.tar.gz PackageFileSize: 19.77 MiB