Package: ChIPpeakAnno Version: 3.43.1 Command: chmod a+r ChIPpeakAnno -R && F:\biocbuild\bbs-3.22-bioc\R\bin\R.exe CMD build --keep-empty-dirs --no-resave-data ChIPpeakAnno StartedAt: 2025-08-14 19:06:09 -0400 (Thu, 14 Aug 2025) EndedAt: 2025-08-14 19:28:18 -0400 (Thu, 14 Aug 2025) EllapsedTime: 1329.5 seconds RetCode: 0 Status: OK PackageFile: ChIPpeakAnno_3.43.1.tar.gz PackageFileSize: 19.58 MiB