Package: ChIPexoQual Version: 1.33.1 Command: F:\biocbuild\bbs-3.22-bioc\R\bin\R.exe CMD INSTALL ChIPexoQual StartedAt: 2025-07-24 16:56:26 -0400 (Thu, 24 Jul 2025) EndedAt: 2025-07-24 16:57:24 -0400 (Thu, 24 Jul 2025) EllapsedTime: 58.1 seconds RetCode: 0 Status: OK