Package: ChIPexoQual Version: 1.33.1 Command: /Library/Frameworks/R.framework/Resources/bin/R CMD INSTALL ChIPexoQual StartedAt: 2025-07-21 15:36:02 -0400 (Mon, 21 Jul 2025) EndedAt: 2025-07-21 15:37:02 -0400 (Mon, 21 Jul 2025) EllapsedTime: 59.7 seconds RetCode: 0 Status: OK