Package: ChIPanalyser Version: 1.31.0 Command: /Library/Frameworks/R.framework/Resources/bin/R CMD INSTALL ChIPanalyser StartedAt: 2025-07-15 15:39:28 -0400 (Tue, 15 Jul 2025) EndedAt: 2025-07-15 15:40:19 -0400 (Tue, 15 Jul 2025) EllapsedTime: 51.0 seconds RetCode: 0 Status: OK