Package: ChIPQC Version: 1.45.0 Command: chmod a+r ChIPQC -R && F:\biocbuild\bbs-3.22-bioc\R\bin\R.exe CMD build --keep-empty-dirs --no-resave-data ChIPQC StartedAt: 2025-07-24 18:10:06 -0400 (Thu, 24 Jul 2025) EndedAt: 2025-07-24 18:12:15 -0400 (Thu, 24 Jul 2025) EllapsedTime: 129.5 seconds RetCode: 0 Status: OK PackageFile: ChIPQC_1.45.0.tar.gz PackageFileSize: 1.526 MiB