Package: ChAMP Version: 2.39.0 Command: /home/biocbuild/R/R/bin/R CMD build --keep-empty-dirs --no-resave-data ChAMP StartedAt: 2025-07-14 22:31:53 -0000 (Mon, 14 Jul 2025) EndedAt: 2025-07-14 22:34:25 -0000 (Mon, 14 Jul 2025) EllapsedTime: 152.1 seconds RetCode: 0 Status: OK PackageFile: ChAMP_2.39.0.tar.gz PackageFileSize: 7.904 MiB